BEGIN:VCALENDAR
VERSION:2.0
PRODID:-//LifeChangers - ECPv5.3.1.1//NONSGML v1.0//EN
CALSCALE:GREGORIAN
METHOD:PUBLISH
X-WR-CALNAME:LifeChangers
X-ORIGINAL-URL:https://lifechangers.org.nz
X-WR-CALDESC:Events for LifeChangers
BEGIN:VTIMEZONE
TZID:Pacific/Auckland
BEGIN:STANDARD
TZOFFSETFROM:+1300
TZOFFSETTO:+1200
TZNAME:NZST
DTSTART:20210403T140000
END:STANDARD
BEGIN:DAYLIGHT
TZOFFSETFROM:+1200
TZOFFSETTO:+1300
TZNAME:NZDT
DTSTART:20210925T140000
END:DAYLIGHT
END:VTIMEZONE
BEGIN:VEVENT
DTSTART;TZID=Pacific/Auckland:20211127T010100
DTEND;TZID=Pacific/Auckland:20211128T010100
DTSTAMP:20210122T171310
CREATED:20200923T015223Z
LAST-MODIFIED:20201217T235801Z
UID:2285-1637974860-1638061260@lifechangers.org.nz
SUMMARY:John Mellor healing evangelist
DESCRIPTION:Postponed until end of 2021\nNo Dates allocated yet\n(Subject to New Zealand boarder restrictions being lifted) \n 
URL:https://lifechangers.org.nz/event/john-mellor-healing-evangelist/
END:VEVENT
END:VCALENDAR